BEGIN:VCALENDAR
VERSION:2.0
PRODID:-//Keeping up with the chaldeans - ECPv5.0.0.2//NONSGML v1.0//EN
CALSCALE:GREGORIAN
METHOD:PUBLISH
X-WR-CALNAME:Keeping up with the chaldeans
X-ORIGINAL-URL:https://kuwtchaldeans.com
X-WR-CALDESC:Events for Keeping up with the chaldeans
BEGIN:VTIMEZONE
TZID:UTC
BEGIN:STANDARD
TZOFFSETFROM:+0000
TZOFFSETTO:+0000
TZNAME:UTC
DTSTART:20200101T000000
END:STANDARD
END:VTIMEZONE
BEGIN:VEVENT
DTSTART;TZID=UTC:20200218T120000
DTEND;TZID=UTC:20200218T120000
DTSTAMP:20260421T092852
CREATED:20200205T220814Z
LAST-MODIFIED:20200210T173637Z
UID:428-1582027200-1582027200@kuwtchaldeans.com
SUMMARY:Waseen Ayar
DESCRIPTION:Urban Air Adventure Park\n
URL:https://kuwtchaldeans.com/event/waseen-ayar/
END:VEVENT
END:VCALENDAR