BEGIN:VCALENDAR
VERSION:2.0
PRODID:-//Keeping up with the chaldeans - ECPv5.0.0.2//NONSGML v1.0//EN
CALSCALE:GREGORIAN
METHOD:PUBLISH
X-WR-CALNAME:Keeping up with the chaldeans
X-ORIGINAL-URL:https://kuwtchaldeans.com
X-WR-CALDESC:Events for Keeping up with the chaldeans
BEGIN:VTIMEZONE
TZID:UTC
BEGIN:STANDARD
TZOFFSETFROM:+0000
TZOFFSETTO:+0000
TZNAME:UTC
DTSTART:20200101T000000
END:STANDARD
END:VTIMEZONE
BEGIN:VEVENT
DTSTART;TZID=UTC:20200227T120000
DTEND;TZID=UTC:20200227T120000
DTSTAMP:20260419T133527
CREATED:20200205T221132Z
LAST-MODIFIED:20200210T171903Z
UID:440-1582804800-1582804800@kuwtchaldeans.com
SUMMARY:Mark Kattula
DESCRIPTION:\n\n\n\nSub contractor/Real Estate Broker\n\n\n\n\nDobi real estate\n\n\n\n\n\n\n\n\n
URL:https://kuwtchaldeans.com/event/available-6/
END:VEVENT
END:VCALENDAR